Workbook

Sheet Current Medians
A2: The purpose of this analysis is to find, if possible, a constant factor that can be used
A3: to adjust the current AFP medians so that they are appropriate for the 'New' AFP assay results
B6: (Bland Altman)
B7: BA Factor | C7: = | E7: from Data Analysis worksheet
H8: Current Median
A9: Gestational Age | D9: AFP Medians (IU/mL) | H9: AFP MoM
A10: Weeks | B10: Days | D10: Current | E10: New | H10: 1.04
A11: 15.5 | B11: =15*7+3 -> 108 | D11: =10^(LOG(1.020874)*B11+LOG(2.601113)) -> 24.218692 | E11: =IF($D$7 <> "",D11*$D$7,"") | H11: (computed elsewhere)
A12: 16.5 | B12: =B11+7 -> 115 | D12: =10^(LOG(1.020874)*B12+LOG(2.601113)) -> 27.986957 | E12: =IF($D$7 <> "",D12*$D$7,"")
A13: 17.5 | B13: =B12+7 -> 122 | D13: =10^(LOG(1.020874)*B13+LOG(2.601113)) -> 32.341539 | E13: =IF($D$7 <> "",D13*$D$7,"")
A14: 18.5 | B14: =B13+7 -> 129 | D14: =10^(LOG(1.020874)*B14+LOG(2.601113)) -> 37.373665 | E14: =IF($D$7 <> "",D14*$D$7,"")
A15: 19.5 | B15: =B14+7 -> 136 | D15: =10^(LOG(1.020874)*B15+LOG(2.601113)) -> 43.188756 | E15: =IF($D$7 <> "",D15*$D$7,"")
A16: 20.5 | B16: =B15+7 -> 143 | D16: =10^(LOG(1.020874)*B16+LOG(2.601113)) -> 49.908635 | E16: =IF($D$7 <> "",D16*$D$7,"")
A17: 21.5 | B17: =B16+7 -> 150 | D17: =10^(LOG(1.020874)*B17+LOG(2.601113)) -> 57.674083 | E17: =IF($D$7 <> "",D17*$D$7,"")
A21: log linear form | B21: AFP Median | C21: = | D21: 10^(0.415159 + 0.008972 * GA_days)
A22: exponential form | B22: AFP Median | C22: = | D22: 2.601113*1.020874(GA_days)

Sheet Method Comparison Data
A1: AFP Old | B1: AFP New
A2: 19.771618 | B2: 17.584876
A3: 33.949179 | B3: 28.700424
A4: 32.573673 | B4: 30.765988
A5: 33.931605 | B5: 30.851159
A6: 23.665902 | B6: 21.385746
A7: 31.743142 | B7: 29.637742
A8: 23.434766 | B8: 21.713464
A9: 46.967034 | B9: 40.595028
A10: 53.018899 | B10: 48.820236
A11: 23.867396 | B11: 22.105934
A12: 14.669681 | B12: 13.025115
A13: 49.842589 | B13: 44.327927
... A76: 27.99276 | B76: 26.178048

Sheet Data Analysis
A1: N | B1: AFP Old | C1: AFP New | E1: Log (AFP Old) | F1: Log (AFP New) | H1: Avg | I1: Ratio | J1: log Avg | K1: log Ratio
A2: 1 | B2: 19.771618 | C2: 17.584876 | E2: =LOG(B2) -> 1.2960422 | F2: =LOG(C2) -> 1.2451393 | H2: =AVERAGE(B2:C2) -> 18.678247 | I2: =C2/B2 -> 0.88939998 | J2: =LOG(H2) -> 1.2713361 | K2: =LOG(I2) -> -0.050902887 | M2: Correl= | N2: =CORREL(E2:E51,F2:F51) -> 0.99748774
A3: =A2+1 -> 2 | B3: 33.949179 | C3: 28.700424 | E3: =LOG(B3) -> 1.5308293 | F3: =LOG(C3) -> 1.4578883 | H3: =AVERAGE(B3:C3) -> 31.324801 | I3: =C3/B3 -> 0.84539376 | J3: =LOG(H3) -> 1.4958883 | K3: =LOG(I3) -> -0.072940964
A4: =A3+1 -> 3 | B4: 32.573673 | C4: 30.765988 | E4: =LOG(B4) -> 1.5128667 | F4: =LOG(C4) -> 1.4880709 | H4: =AVERAGE(B4:C4) -> 31.66983 | I4: =C4/B4 -> 0.94450471 | J4: =LOG(H4) -> 1.5006457 | K4: =LOG(I4) -> -0.02479587 | M4: Slope= | N4: =SLOPE(K2:K51,J2:J51) -> 0.0010016737
A5: =A4+1 -> 4 | B5: 33.931605 | C5: 30.851159 | E5: =LOG(B5) -> 1.5306044 | F5: =LOG(C5) -> 1.4892715 | H5: =AVERAGE(B5:C5) -> 32.391382 | I5: =C5/B5 -> 0.90921603 | J5: =LOG(H5) -> 1.5104295 | K5: =LOG(I5) -> -0.041332914 | M5: Intercept= | N5: =INTERCEPT(K2:K51,J2:J51) -> -0.047085484
A6: =A5+1 -> 5 | B6: 23.665902 | C6: 21.385746 | E6: =LOG(B6) -> 1.3741231 | F6: =LOG(C6) -> 1.3301244 | H6: =AVERAGE(B6:C6) -> 22.525824 | I6: =C6/B6 -> 0.90365225 | J6: =LOG(H6) -> 1.3526807 | K6: =LOG(I6) -> -0.043998667
A7: =A6+1 -> 6 | B7: 31.743142 | C7: 29.637742 | E7: =LOG(B7) -> 1.5016499 | F7: =LOG(C7) -> 1.4718451 | H7: =AVERAGE(B7:C7) -> 30.690442 | I7: =C7/B7 -> 0.93367386 | J7: =LOG(H7) -> 1.4870031 | K7: =LOG(I7) -> -0.0298048 | M7: Avg | N7: Ratio
A8: =A7+1 -> 7 | B8: 23.434766 | C8: 21.713464 | E8: =LOG(B8) -> 1.3698606 | F8: =LOG(C8) -> 1.3367291 | H8: =AVERAGE(B8:C8) -> 22.574115 | I8: =C8/B8 -> 0.92654917 | J8: =LOG(H8) -> 1.3536107 | K8: =LOG(I8) -> -0.033131527 | M8: 2.5 | N8: =10^($N$5+$N$4*LOG(M8)) -> 0.89807606
A9: =A8+1 -> 8 | B9: 46.967034 | C9: 40.595028 | E9: =LOG(B9) -> 1.6717931 | F9: =LOG(C9) -> 1.6084728 | H9: =AVERAGE(B9:C9) -> 43.781031 | I9: =C9/B9 -> 0.86433025 | J9: =LOG(H9) -> 1.641286 | K9: =LOG(I9) -> -0.063320285 | M9: 70 | N9: =10^($N$5+$N$4*LOG(M9)) -> 0.90107865
A10: =A9+1 -> 9 | B10: 53.018899 | C10: 48.820236 | E10: =LOG(B10) -> 1.7244307 | F10: =LOG(C10) -> 1.6885999 | H10: =AVERAGE(B10:C10) -> 50.919567 | I10: =C10/B10 -> 0.92080817 | J10: =LOG(H10) -> 1.7068847 | K10: =LOG(I10) -> -0.035830836
A11: =A10+1 -> 10 | B11: 23.867396 | C11: 22.105934 | E11: =LOG(B11) -> 1.377805 | F11: =LOG(C11) -> 1.3445089 | H11: =AVERAGE(B11:C11) -> 22.986665 | I11: =C11/B11 -> 0.92619795 | J11: =LOG(H11) -> 1.361476 | K11: =LOG(I11) -> -0.033296185 | M11: Avg Ratio | N11: =AVERAGE(I2:I51) -> 0.90079071
A12: =A11+1 -> 11 | B12: 14.669681 | C12: 13.025115 | E12: =LOG(B12) -> 1.1664207 | F12: =LOG(C12) -> 1.1147816 | H12: =AVERAGE(B12:C12) -> 13.847398 | I12: =C12/B12 -> 0.88789351 | J12: =LOG(H12) -> 1.1413682 | K12: =LOG(I12) -> -0.051639118
A13: =A12+1 -> 12 | B13: 49.842589 | C13: 44.327927 | E13: =LOG(B13) -> 1.6976006 | F13: =LOG(C13) -> 1.6466774 | H13: =AVERAGE(B13:C13) -> 47.085258 | I13: =C13/B13 -> 0.88935843 | J13: =LOG(H13) -> 1.672885 | K13: =LOG(I13) -> -0.050923172
A14: =A13+1 -> 13 | B14: 17.494832 | C14: 16.273291 | E14: =LOG(B14) -> 1.2429098 | F14: =LOG(C14) -> 1.2114754 | H14: =AVERAGE(B14:C14) -> 16.884062 | I14: =C14/B14 -> 0.93017703 | J14: =LOG(H14) -> 1.2274769 | K14: =LOG(I14) -> -0.031434387
A15: =A14+1 -> 14 | B15: 42.879141 | C15: 36.85801 | E15: =LOG(B15) -> 1.6322461 | F15: =LOG(C15) -> 1.5665319 | H15: =AVERAGE(B15:C15) -> 39.868576 | I15: =C15/B15 -> 0.85957901 | J15: =LOG(H15) -> 1.6006307 | K15: =LOG(I15) -> -0.065714199
A16: =A15+1 -> 15 | B16: 80.264957 | C16: 75.161772 | E16: =LOG(B16) -> 1.904526 | F16: =LOG(C16) -> 1.875997 | H16: =AVERAGE(B16:C16) -> 77.713365 | I16: =C16/B16 -> 0.93642076 | J16: =LOG(H16) -> 1.8904957 | K16: =LOG(I16) -> -0.028528966
A17: =A16+1 -> 16 | B17: 40.092503 | C17: 36.252976 | E17: =LOG(B17) -> 1.6030632 | F17: =LOG(C17) -> 1.5593437 | H17: =AVERAGE(B17:C17) -> 38.17274 | I17: =C17/B17 -> 0.90423328 | J17: =LOG(H17) -> 1.5817533 | K17: =LOG(I17) -> -0.043719514
A18: =A17+1 -> 17 | B18: 34.280489 | C18: 31.826597 | E18: =LOG(B18) -> 1.535047 | F18: =LOG(C18) -> 1.5027902 | H18: =AVERAGE(B18:C18) -> 33.053543 | I18: =C18/B18 -> 0.92841723 | J18: =LOG(H18) -> 1.519218 | K18: =LOG(I18) -> -0.032256808
A19: =A18+1 -> 18 | B19: 17.873398 | C19: 15.750106 | E19: =LOG(B19) -> 1.2522071 | F19: =LOG(C19) -> 1.1972835 | H19: =AVERAGE(B19:C19) -> 16.811752 | I19: =C19/B19 -> 0.88120381 | J19: =LOG(H19) -> 1.225613 | K19: =LOG(I19) -> -0.054923632
A20: =A19+1 -> 19 | B20: 32.944629 | C20: 29.484227 | E20: =LOG(B20) -> 1.5177846 | F20: =LOG(C20) -> 1.4695897 | H20: =AVERAGE(B20:C20) -> 31.214428 | I20: =C20/B20 -> 0.89496308 | J20: =LOG(H20) -> 1.4943554 | K20: =LOG(I20) -> -0.048194879
A21: =A20+1 -> 20 | B21: 43.31996 | C21: 38.1871 | E21: =LOG(B21) -> 1.6366881 | F21: =LOG(C21) -> 1.5819167 | H21: =AVERAGE(B21:C21) -> 40.75353 | I21: =C21/B21 -> 0.88151281 | J21: =LOG(H21) -> 1.6101652 | K21: =LOG(I21) -> -0.05477137
A22: =A21+1 -> 21 | B22: 42.052852 | C22: 39.552181 | E22: =LOG(B22) -> 1.6237955 | F22: =LOG(C22) -> 1.5971704 | H22: =AVERAGE(B22:C22) -> 40.802517 | I22: =C22/B22 -> 0.94053504 | J22: =LOG(H22) -> 1.6106869 | K22: =LOG(I22) -> -0.026625019
A23: =A22+1 -> 22 | B23: 62.579477 | C23: 56.488561 | E23: =LOG(B23) -> 1.7964319 | F23: =LOG(C23) -> 1.7519605 | H23: =AVERAGE(B23:C23) -> 59.534019 | I23: =C23/B23 -> 0.90266911 | J23: =LOG(H23) -> 1.7747652 | K23: =LOG(I23) -> -0.044471421
... A76: =A75+1 -> 75 | B76: 27.99276 | C76: 26.178048 | E76: =LOG(B76) -> 1.4470457 | F76: =LOG(C76) -> 1.4179373 | H76: =AVERAGE(B76:C76) -> 27.085404 | I76: =C76/B76 -> 0.93517207 | J76: =LOG(H76) -> 1.4327353 | K76: =LOG(I76) -> -0.029108472

Sheet Graphics
F2: Scatterplot on log scales
B5: Y=X reference line
B6: (red line)
B7: X | C7: Y | L7: N= | M7: =COUNT(#REF!) -> 0
B8: 11 | C8: 11 | L8: Corrr= | M8: ='Data Analysis'!N2 -> 0.99748774
B9: 99 | C9: 99
F26: Bland-Altman Regression
B28: Y=1 reference line
B29: (red line) | L29: slope= | M29: ='Data Analysis'!N4 -> 0.0010016737
B30: X | C30: Y | L30: intercept= | M30: ='Data Analysis'!N5 -> -0.047085484
B31: 11 | C31: 1
B32: 99 | C32: 1 | L32: regression line
L33: (green line)
L34: X | M34: Y
L35: 11 | M35: ='Data Analysis'!N8 -> 0.89807606
L36: 99 | M36: ='Data Analysis'!N9 -> 0.90107865
L39: Constant ratio
L40: (black line)
L41: X | M41: Y
L42: 11 | M42: ='Data Analysis'!N11 -> 0.90079071
L43: 99 | M43: ='Data Analysis'!N11 -> 0.90079071
